Workbook

Sheet BEO
A1: beosztott tűzoltó
A2: Szoolgálati idő (év) | B2: fizetési fokozat | C2: besorolási kategória | D2: Beosztási illetmény | E2: Hivatásos pótlék | F2: Korpótlék | G2: Éjszakai pótlék (7 szolgálat) | H2: Havi Bruttó Bér | I2: Szoolgálati idő (év)
C4: A
A5: 1 | B5: 1. | C5: =Tiszthelyettes!C4 -> 4.7 | D5: =C5*Tiszthelyettes!$M$2 -> 181655 | E5: =Tiszthelyettes!$L$6*Tiszthelyettes!$M$2 -> 48312.5 | F5: 0 | G5: =7*Korpótlék!$C$13 -> 16233 | H5: =$D$5+$E$5+F5+$G$5 -> 246200.5 | I5: 1
A6: 2 | F6: 0 | H6: =$D$5+$E$5+F6+$G$5 -> 246200.5 | I6: 2
A7: 3 | C7: =Tiszthelyettes!C5 -> őrm. | F7: 0 | H7: =$D$5+$E$5+F7+$G$5 -> 246200.5 | I7: 3
A8: 4 | F8: 0 | H8: =$D$5+$E$5+F8+$G$5 -> 246200.5 | I8: 4
A9: 5 | B9: 2. | C9: =Tiszthelyettes!C6 -> 4.9 | D9: =C9*Tiszthelyettes!$M$2 -> 189385 | F9: 0 | H9: =$D$9+$E$5+F9+$G$5 -> 253930.5 | I9: 5
A10: 6 | F10: 0 | H10: =$D$9+$E$5+F10+$G$5 -> 253930.5 | I10: 6
A11: 7 | C11: =Tiszthelyettes!C7 -> őrm. | F11: 0 | H11: =$D$9+$E$5+F11+$G$5 -> 253930.5 | I11: 7
A12: 8 | F12: 0 | H12: =$D$9+$E$5+F12+$G$5 -> 253930.5 | I12: 8
A13: 9 | B13: 3 | C13: =Tiszthelyettes!C8 -> 5.1 | D13: =C13*Tiszthelyettes!$M$2 -> 197115 | F13: 0 | H13: =$D$13+$E$5+F13+$G$5 -> 261660.5 | I13: 9
A14: 10 | F14: =Korpótlék!$D$4 -> 28987.5 | H14: =$D$13+$E$5+F14+$G$5 -> 290648 | I14: 10
A15: 11 | C15: =Tiszthelyettes!C9 -> őrm. | F15: =Korpótlék!$D$4 -> 28987.5 | H15: =$D$13+$E$5+F15+$G$5 -> 290648 | I15: 11
A16: 12 | F16: =Korpótlék!$D$4 -> 28987.5 | H16: =$D$13+$E$5+F16+$G$5 -> 290648 | I16: 12
A17: 13 | B17: 4. | C17: =Tiszthelyettes!C10 -> 5.3 | D17: =C17*Tiszthelyettes!$M$2 -> 204845 | F17: =Korpótlék!$D$4 -> 28987.5 | H17: =$D$17+$E$5+F17+$G$5 -> 298378 | I17: 13
A18: 14 | F18: =Korpótlék!$D$4 -> 28987.5 | H18: =$D$17+$E$5+F18+$G$5 -> 298378 | I18: 14
A19: 15 | C19: =Tiszthelyettes!C11 -> őrm. | F19: =Korpótlék!$D$5 -> 38650 | H19: =$D$17+$E$5+F19+$G$5 -> 308040.5 | I19: 15
A20: 16 | F20: =Korpótlék!$D$5 -> 38650 | H20: =$D$17+$E$5+F20+$G$5 -> 308040.5 | I20: 16
A21: 17 | B21: 5. | C21: =Tiszthelyettes!C12 -> 5.5 | D21: =C21*Tiszthelyettes!$M$2 -> 212575 | F21: =Korpótlék!$D$5 -> 38650 | H21: =$D$21+$E$5+F21+$G$5 -> 315770.5 | I21: 17
A22: 18 | F22: =Korpótlék!$D$5 -> 38650 | H22: =$D$21+$E$5+F22+$G$5 -> 315770.5 | I22: 18
A23: 19 | C23: =Tiszthelyettes!C13 -> őrm. | F23: =Korpótlék!$D$5 -> 38650 | H23: =$D$21+$E$5+F23+$G$5 -> 315770.5 | I23: 19
A24: 20 | F24: =Korpótlék!$D$6 -> 48312.5 | H24: =$D$21+$E$5+F24+$G$5 -> 325433 | I24: 20
A25: 21 | B25: 6. | C25: =Tiszthelyettes!C14 -> 5.7 | D25: =C25*Tiszthelyettes!$M$2 -> 220305 | F25: =Korpótlék!$D$6 -> 48312.5 | H25: =$D$25+$E$5+F25+$G$5 -> 333163 | I25: 21
A26: 22 | F26: =Korpótlék!$D$6 -> 48312.5 | H26: =$D$25+$E$5+F26+$G$5 -> 333163 | I26: 22
A27: 23 | C27: =Tiszthelyettes!C15 -> tőrm. | F27: =Korpótlék!$D$6 -> 48312.5 | H27: =$D$25+$E$5+F27+$G$5 -> 333163 | I27: 23
A28: 24 | F28: =Korpótlék!$D$6 -> 48312.5 | H28: =$D$25+$E$5+F28+$G$5 -> 333163 | I28: 24
A29: 25 | B29: 7. | C29: =Tiszthelyettes!C16 -> 5.9 | D29: =C29*Tiszthelyettes!$M$2 -> 228035 | F29: =Korpótlék!$D$7 -> 57975 | H29: =$D$29+$E$5+F29+$G$5 -> 350555.5 | I29: 25
A30: 26 | F30: =Korpótlék!$D$7 -> 57975 | H30: =$D$29+$E$5+F30+$G$5 -> 350555.5 | I30: 26
A31: 27 | C31: =Tiszthelyettes!C17 -> tőrm. | F31: =Korpótlék!$D$7 -> 57975 | H31: =$D$29+$E$5+F31+$G$5 -> 350555.5 | I31: 27
A32: 28 | F32: =Korpótlék!$D$7 -> 57975 | H32: =$D$29+$E$5+F32+$G$5 -> 350555.5 | I32: 28
A33: 29 | B33: 8. | C33: =Tiszthelyettes!C18 -> 6.1 | D33: =C33*Tiszthelyettes!$M$2 -> 235765 | F33: =Korpótlék!$D$7 -> 57975 | H33: =$D$33+$E$5+F33+$G$5 -> 358285.5 | I33: 29
A34: 30 | F34: =Korpótlék!$D$8 -> 69570 | H34: =$D$33+$E$5+F34+$G$5 -> 369880.5 | I34: 30
A35: 31 | C35: =Tiszthelyettes!C19 -> tőrm. | F35: =Korpótlék!$D$8 -> 69570 | H35: =$D$33+$E$5+F35+$G$5 -> 369880.5 | I35: 31
A36: 32 | F36: =Korpótlék!$D$8 -> 69570 | H36: =$D$33+$E$5+F36+$G$5 -> 369880.5 | I36: 32
A37: 33 | B37: 9. | C37: =Tiszthelyettes!C20 -> 6.3 | D37: =C37*Tiszthelyettes!$M$2 -> 243495 | F37: =Korpótlék!$D$8 -> 69570 | H37: =$D$37+$E$5+F37+$G$5 -> 377610.5 | I37: 33
A38: 34 | F38: =Korpótlék!$D$8 -> 69570 | H38: =$D$37+$E$5+F38+$G$5 -> 377610.5 | I38: 34
A39: 35 | C39: =Tiszthelyettes!C21 -> tőrm. | F39: =Korpótlék!$D$9 -> 81165 | H39: =$D$37+$E$5+F39+$G$5 -> 389205.5 | I39: 35
A40: 36 | F40: =Korpótlék!$D$9 -> 81165 | H40: =$D$37+$E$5+F40+$G$5 -> 389205.5 | I40: 36
A41: 37 | B41: 10. | C41: =Tiszthelyettes!C22 -> 6.5 | D41: =C41*Tiszthelyettes!$M$2 -> 251225 | F41: =Korpótlék!$D$9 -> 81165 | H41: =$D$41+$E$5+F41+$G$5 -> 396935.5 | I41: 37
A42: 38 | F42: =Korpótlék!$D$9 -> 81165 | H42: =$D$41+$E$5+F42+$G$5 -> 396935.5 | I42: 38
A43: 39 | C43: =Tiszthelyettes!C23 -> tőrm. | F43: =Korpótlék!$D$9 -> 81165 | H43: =$D$41+$E$5+F43+$G$5 -> 396935.5 | I43: 39
A44: 40 | F44: =Korpótlék!$D$10 -> 96625 | H44: =$D$41+$E$5+F44+$G$5 -> 412395.5 | I44: 40

Sheet GKV
A1: gépjárművezető
A2: Szoolgálati idő (év) | B2: fizetési fokozat | C2: besorolási kategória | D2: Beosztási illetmény | E2: Hivatásos pótlék | F2: Korpótlék | G2: Éjszakai pótlék (7 szolgálat) | H2: Havi Bruttó Bér | I2: Szoolgálati idő (év)
C4: A
A5: 1 | B5: 1. | C5: =Tiszthelyettes!C4 -> 4.7 | D5: =C5*Tiszthelyettes!$M$2 -> 181655 | E5: =Tiszthelyettes!$L$5*Tiszthelyettes!$M$2 -> 52177.5 | F5: 0 | G5: =7*Korpótlék!$C$13 -> 16233 | H5: =$D$5+$E$5+F5+$G$5 -> 250065.5 | I5: 1
A6: 2 | F6: 0 | H6: =$D$5+$E$5+F6+$G$5 -> 250065.5 | I6: 2
A7: 3 | C7: =Tiszthelyettes!C5 -> őrm. | F7: 0 | H7: =$D$5+$E$5+F7+$G$5 -> 250065.5 | I7: 3
A8: 4 | F8: 0 | H8: =$D$5+$E$5+F8+$G$5 -> 250065.5 | I8: 4
A9: 5 | B9: 2. | C9: =Tiszthelyettes!C6 -> 4.9 | D9: =C9*Tiszthelyettes!$M$2 -> 189385 | F9: 0 | H9: =$D$9+$E$5+F9+$G$5 -> 257795.5 | I9: 5
A10: 6 | F10: 0 | H10: =$D$9+$E$5+F10+$G$5 -> 257795.5 | I10: 6
A11: 7 | C11: =Tiszthelyettes!C7 -> őrm. | F11: 0 | H11: =$D$9+$E$5+F11+$G$5 -> 257795.5 | I11: 7
A12: 8 | F12: 0 | H12: =$D$9+$E$5+F12+$G$5 -> 257795.5 | I12: 8
A13: 9 | B13: 3 | C13: =Tiszthelyettes!C8 -> 5.1 | D13: =C13*Tiszthelyettes!$M$2 -> 197115 | F13: 0 | H13: =$D$13+$E$5+F13+$G$5 -> 265525.5 | I13: 9
A14: 10 | F14: =Korpótlék!$D$4 -> 28987.5 | H14: =$D$13+$E$5+F14+$G$5 -> 294513 | I14: 10
A15: 11 | C15: =Tiszthelyettes!C9 -> őrm. | F15: =Korpótlék!$D$4 -> 28987.5 | H15: =$D$13+$E$5+F15+$G$5 -> 294513 | I15: 11
A16: 12 | F16: =Korpótlék!$D$4 -> 28987.5 | H16: =$D$13+$E$5+F16+$G$5 -> 294513 | I16: 12
A17: 13 | B17: 4. | C17: =Tiszthelyettes!C10 -> 5.3 | D17: =C17*Tiszthelyettes!$M$2 -> 204845 | F17: =Korpótlék!$D$4 -> 28987.5 | H17: =$D$17+$E$5+F17+$G$5 -> 302243 | I17: 13
A18: 14 | F18: =Korpótlék!$D$4 -> 28987.5 | H18: =$D$17+$E$5+F18+$G$5 -> 302243 | I18: 14
A19: 15 | C19: =Tiszthelyettes!C11 -> őrm. | F19: =Korpótlék!$D$5 -> 38650 | H19: =$D$17+$E$5+F19+$G$5 -> 311905.5 | I19: 15
A20: 16 | F20: =Korpótlék!$D$5 -> 38650 | H20: =$D$17+$E$5+F20+$G$5 -> 311905.5 | I20: 16
A21: 17 | B21: 5. | C21: =Tiszthelyettes!C12 -> 5.5 | D21: =C21*Tiszthelyettes!$M$2 -> 212575 | F21: =Korpótlék!$D$5 -> 38650 | H21: =$D$21+$E$5+F21+$G$5 -> 319635.5 | I21: 17
A22: 18 | F22: =Korpótlék!$D$5 -> 38650 | H22: =$D$21+$E$5+F22+$G$5 -> 319635.5 | I22: 18
A23: 19 | C23: =Tiszthelyettes!C13 -> őrm. | F23: =Korpótlék!$D$5 -> 38650 | H23: =$D$21+$E$5+F23+$G$5 -> 319635.5 | I23: 19
A24: 20 | F24: =Korpótlék!$D$6 -> 48312.5 | H24: =$D$21+$E$5+F24+$G$5 -> 329298 | I24: 20
A25: 21 | B25: 6. | C25: =Tiszthelyettes!C14 -> 5.7 | D25: =C25*Tiszthelyettes!$M$2 -> 220305 | F25: =Korpótlék!$D$6 -> 48312.5 | H25: =$D$25+$E$5+F25+$G$5 -> 337028 | I25: 21
A26: 22 | F26: =Korpótlék!$D$6 -> 48312.5 | H26: =$D$25+$E$5+F26+$G$5 -> 337028 | I26: 22
A27: 23 | C27: =Tiszthelyettes!C15 -> tőrm. | F27: =Korpótlék!$D$6 -> 48312.5 | H27: =$D$25+$E$5+F27+$G$5 -> 337028 | I27: 23
A28: 24 | F28: =Korpótlék!$D$6 -> 48312.5 | H28: =$D$25+$E$5+F28+$G$5 -> 337028 | I28: 24
A29: 25 | B29: 7. | C29: =Tiszthelyettes!C16 -> 5.9 | D29: =C29*Tiszthelyettes!$M$2 -> 228035 | F29: =Korpótlék!$D$7 -> 57975 | H29: =$D$29+$E$5+F29+$G$5 -> 354420.5 | I29: 25
A30: 26 | F30: =Korpótlék!$D$7 -> 57975 | H30: =$D$29+$E$5+F30+$G$5 -> 354420.5 | I30: 26
A31: 27 | C31: =Tiszthelyettes!C17 -> tőrm. | F31: =Korpótlék!$D$7 -> 57975 | H31: =$D$29+$E$5+F31+$G$5 -> 354420.5 | I31: 27
A32: 28 | F32: =Korpótlék!$D$7 -> 57975 | H32: =$D$29+$E$5+F32+$G$5 -> 354420.5 | I32: 28
A33: 29 | B33: 8. | C33: =Tiszthelyettes!C18 -> 6.1 | D33: =C33*Tiszthelyettes!$M$2 -> 235765 | F33: =Korpótlék!$D$7 -> 57975 | H33: =$D$33+$E$5+F33+$G$5 -> 362150.5 | I33: 29
A34: 30 | F34: =Korpótlék!$D$8 -> 69570 | H34: =$D$33+$E$5+F34+$G$5 -> 373745.5 | I34: 30
A35: 31 | C35: =Tiszthelyettes!C19 -> tőrm. | F35: =Korpótlék!$D$8 -> 69570 | H35: =$D$33+$E$5+F35+$G$5 -> 373745.5 | I35: 31
A36: 32 | F36: =Korpótlék!$D$8 -> 69570 | H36: =$D$33+$E$5+F36+$G$5 -> 373745.5 | I36: 32
A37: 33 | B37: 9. | C37: =Tiszthelyettes!C20 -> 6.3 | D37: =C37*Tiszthelyettes!$M$2 -> 243495 | F37: =Korpótlék!$D$8 -> 69570 | H37: =$D$37+$E$5+F37+$G$5 -> 381475.5 | I37: 33
A38: 34 | F38: =Korpótlék!$D$8 -> 69570 | H38: =$D$37+$E$5+F38+$G$5 -> 381475.5 | I38: 34
A39: 35 | C39: =Tiszthelyettes!C21 -> tőrm. | F39: =Korpótlék!$D$9 -> 81165 | H39: =$D$37+$E$5+F39+$G$5 -> 393070.5 | I39: 35
A40: 36 | F40: =Korpótlék!$D$9 -> 81165 | H40: =$D$37+$E$5+F40+$G$5 -> 393070.5 | I40: 36
A41: 37 | B41: 10. | C41: =Tiszthelyettes!C22 -> 6.5 | D41: =C41*Tiszthelyettes!$M$2 -> 251225 | F41: =Korpótlék!$D$9 -> 81165 | H41: =$D$41+$E$5+F41+$G$5 -> 400800.5 | I41: 37
A42: 38 | F42: =Korpótlék!$D$9 -> 81165 | H42: =$D$41+$E$5+F42+$G$5 -> 400800.5 | I42: 38
A43: 39 | C43: =Tiszthelyettes!C23 -> tőrm. | F43: =Korpótlék!$D$9 -> 81165 | H43: =$D$41+$E$5+F43+$G$5 -> 400800.5 | I43: 39
A44: 40 | F44: =Korpótlék!$D$10 -> 96625 | H44: =$D$41+$E$5+F44+$G$5 -> 416260.5 | I44: 40

Sheet KÜLSZER
A1: különleges szerkezelő
A2: Szoolgálati idő (év) | B2: fizetési fokozat | C2: besorolási kategória | D2: Beosztási illetmény | E2: Hivatásos pótlék | F2: Korpótlék | G2: Éjszakai pótlék (7 szolgálat) | H2: Havi Bruttó Bér | I2: Szoolgálati idő (év)
C4: B
B5: 1. | C5: =Tiszthelyettes!D4 -> X | E5: =Tiszthelyettes!$L$4*Tiszthelyettes!$M$2 -> 52177.5 | F5: 0 | G5: =7*Korpótlék!$C$13 -> 16233
F6: 0
C7: =Tiszthelyettes!D5 -> X | F7: 0
F8: 0
A9: 5 | B9: 2. | C9: =Tiszthelyettes!D6 -> 5.4 | D9: =C9*Tiszthelyettes!$M$2 -> 208710 | F9: 0 | H9: =$D$9+$E$5+F9+$G$5 -> 277120.5 | I9: 5
A10: 6 | F10: 0 | H10: =$D$9+$E$5+F10+$G$5 -> 277120.5 | I10: 6
A11: 7 | C11: =Tiszthelyettes!D7 -> őrm. | F11: 0 | H11: =$D$9+$E$5+F11+$G$5 -> 277120.5 | I11: 7
A12: 8 | F12: 0 | H12: =$D$9+$E$5+F12+$G$5 -> 277120.5 | I12: 8
A13: 9 | B13: 3 | C13: =Tiszthelyettes!D8 -> 5.6 | D13: =C13*Tiszthelyettes!$M$2 -> 216440 | F13: 0 | H13: =$D$13+$E$5+F13+$G$5 -> 284850.5 | I13: 9
A14: 10 | F14: =Korpótlék!$D$4 -> 28987.5 | H14: =$D$13+$E$5+F14+$G$5 -> 313838 | I14: 10
A15: 11 | C15: =Tiszthelyettes!D9 -> őrm. | F15: =Korpótlék!$D$4 -> 28987.5 | H15: =$D$13+$E$5+F15+$G$5 -> 313838 | I15: 11
A16: 12 | F16: =Korpótlék!$D$4 -> 28987.5 | H16: =$D$13+$E$5+F16+$G$5 -> 313838 | I16: 12
A17: 13 | B17: 4. | C17: =Tiszthelyettes!D10 -> 5.8 | D17: =C17*Tiszthelyettes!$M$2 -> 224170 | F17: =Korpótlék!$D$4 -> 28987.5 | H17: =$D$17+$E$5+F17+$G$5 -> 321568 | I17: 13
A18: 14 | F18: =Korpótlék!$D$4 -> 28987.5 | H18: =$D$17+$E$5+F18+$G$5 -> 321568 | I18: 14
A19: 15 | C19: =Tiszthelyettes!D11 -> őrm. | F19: =Korpótlék!$D$5 -> 38650 | H19: =$D$17+$E$5+F19+$G$5 -> 331230.5 | I19: 15
A20: 16 | F20: =Korpótlék!$D$5 -> 38650 | H20: =$D$17+$E$5+F20+$G$5 -> 331230.5 | I20: 16
A21: 17 | B21: 5. | C21: =Tiszthelyettes!D12 -> 6 | D21: =C21*Tiszthelyettes!$M$2 -> 231900 | F21: =Korpótlék!$D$5 -> 38650 | H21: =$D$21+$E$5+F21+$G$5 -> 338960.5 | I21: 17
A22: 18 | F22: =Korpótlék!$D$5 -> 38650 | H22: =$D$21+$E$5+F22+$G$5 -> 338960.5 | I22: 18
A23: 19 | C23: =Tiszthelyettes!D13 -> tőrm. | F23: =Korpótlék!$D$5 -> 38650 | H23: =$D$21+$E$5+F23+$G$5 -> 338960.5 | I23: 19
A24: 20 | F24: =Korpótlék!$D$6 -> 48312.5 | H24: =$D$21+$E$5+F24+$G$5 -> 348623 | I24: 20
A25: 21 | B25: 6. | C25: =Tiszthelyettes!D14 -> 6.2 | D25: =C25*Tiszthelyettes!$M$2 -> 239630 | F25: =Korpótlék!$D$6 -> 48312.5 | H25: =$D$25+$E$5+F25+$G$5 -> 356353 | I25: 21
A26: 22 | F26: =Korpótlék!$D$6 -> 48312.5 | H26: =$D$25+$E$5+F26+$G$5 -> 356353 | I26: 22
A27: 23 | C27: =Tiszthelyettes!D15 -> tőrm. | F27: =Korpótlék!$D$6 -> 48312.5 | H27: =$D$25+$E$5+F27+$G$5 -> 356353 | I27: 23
A28: 24 | F28: =Korpótlék!$D$6 -> 48312.5 | H28: =$D$25+$E$5+F28+$G$5 -> 356353 | I28: 24
A29: 25 | B29: 7. | C29: =Tiszthelyettes!D16 -> 6.4 | D29: =C29*Tiszthelyettes!$M$2 -> 247360 | F29: =Korpótlék!$D$7 -> 57975 | H29: =$D$29+$E$5+F29+$G$5 -> 373745.5 | I29: 25
A30: 26 | F30: =Korpótlék!$D$7 -> 57975 | H30: =$D$29+$E$5+F30+$G$5 -> 373745.5 | I30: 26
A31: 27 | C31: =Tiszthelyettes!D17 -> tőrm. | F31: =Korpótlék!$D$7 -> 57975 | H31: =$D$29+$E$5+F31+$G$5 -> 373745.5 | I31: 27
A32: 28 | F32: =Korpótlék!$D$7 -> 57975 | H32: =$D$29+$E$5+F32+$G$5 -> 373745.5 | I32: 28
A33: 29 | B33: 8. | C33: =Tiszthelyettes!D18 -> 6.6 | D33: =C33*Tiszthelyettes!$M$2 -> 255090 | F33: =Korpótlék!$D$7 -> 57975 | H33: =$D$33+$E$5+F33+$G$5 -> 381475.5 | I33: 29
A34: 30 | F34: =Korpótlék!$D$8 -> 69570 | H34: =$D$33+$E$5+F34+$G$5 -> 393070.5 | I34: 30
A35: 31 | C35: =Tiszthelyettes!D19 -> ftőrm. | F35: =Korpótlék!$D$8 -> 69570 | H35: =$D$33+$E$5+F35+$G$5 -> 393070.5 | I35: 31
A36: 32 | F36: =Korpótlék!$D$8 -> 69570 | H36: =$D$33+$E$5+F36+$G$5 -> 393070.5 | I36: 32
A37: 33 | B37: 9. | C37: =Tiszthelyettes!D20 -> 6.8 | D37: =C37*Tiszthelyettes!$M$2 -> 262820 | F37: =Korpótlék!$D$8 -> 69570 | H37: =$D$37+$E$5+F37+$G$5 -> 400800.5 | I37: 33
A38: 34 | F38: =Korpótlék!$D$8 -> 69570 | H38: =$D$37+$E$5+F38+$G$5 -> 400800.5 | I38: 34
A39: 35 | C39: =Tiszthelyettes!D21 -> ftőrm. | F39: =Korpótlék!$D$9 -> 81165 | H39: =$D$37+$E$5+F39+$G$5 -> 412395.5 | I39: 35
A40: 36 | F40: =Korpótlék!$D$9 -> 81165 | H40: =$D$37+$E$5+F40+$G$5 -> 412395.5 | I40: 36
A41: 37 | B41: 10. | C41: =Tiszthelyettes!D22 -> 7 | D41: =C41*Tiszthelyettes!$M$2 -> 270550 | F41: =Korpótlék!$D$9 -> 81165 | H41: =$D$41+$E$5+F41+$G$5 -> 420125.5 | I41: 37
A42: 38 | F42: =Korpótlék!$D$9 -> 81165 | H42: =$D$41+$E$5+F42+$G$5 -> 420125.5 | I42: 38
A43: 39 | C43: =Tiszthelyettes!D23 -> ftőrm. | F43: =Korpótlék!$D$9 -> 81165 | H43: =$D$41+$E$5+F43+$G$5 -> 420125.5 | I43: 39
A44: 40 | F44: =Korpótlék!$D$10 -> 96625 | H44: =$D$41+$E$5+F44+$G$5 -> 435585.5 | I44: 40

Sheet SZER PK
A1: szerparancsnok
A2: Szoolgálati idő (év) | B2: fizetési fokozat | C2: besorolási kategória | D2: Beosztási illetmény | E2: Hivatásos pótlék | F2: Korpótlék | G2: Éjszakai pótlék (7 szolgálat) | H2: Havi Bruttó Bér | I2: Szoolgálati idő (év)
C4: C
B5: 1. | C5: =Tiszthelyettes!E4 -> X | E5: =Tiszthelyettes!$L$3*Tiszthelyettes!$M$2 -> 57975 | F5: 0 | G5: =7*Korpótlék!$C$13 -> 16233
F6: 0
C7: =Tiszthelyettes!E5 -> X | F7: 0
F8: 0
B9: 2. | C9: =Tiszthelyettes!E6 -> X | F9: 0
F10: 0
C11: =Tiszthelyettes!E7 -> X | F11: 0
F12: 0
A13: 9 | B13: 3 | C13: =Tiszthelyettes!E8 -> 6.1 | D13: =C13*Tiszthelyettes!$M$2 -> 235765 | F13: 0 | H13: =$D$13+$E$5+F13+$G$5 -> 309973 | I13: 9
A14: 10 | F14: =Korpótlék!$D$4 -> 28987.5 | H14: =$D$13+$E$5+F14+$G$5 -> 338960.5 | I14: 10
A15: 11 | C15: =Tiszthelyettes!E9 -> tőrm. | F15: =Korpótlék!$D$4 -> 28987.5 | H15: =$D$13+$E$5+F15+$G$5 -> 338960.5 | I15: 11
A16: 12 | F16: =Korpótlék!$D$4 -> 28987.5 | H16: =$D$13+$E$5+F16+$G$5 -> 338960.5 | I16: 12
A17: 13 | B17: 4. | C17: =Tiszthelyettes!E10 -> 6.3 | D17: =C17*Tiszthelyettes!$M$2 -> 243495 | F17: =Korpótlék!$D$4 -> 28987.5 | H17: =$D$17+$E$5+F17+$G$5 -> 346690.5 | I17: 13
A18: 14 | F18: =Korpótlék!$D$4 -> 28987.5 | H18: =$D$17+$E$5+F18+$G$5 -> 346690.5 | I18: 14
A19: 15 | C19: =Tiszthelyettes!E11 -> tőrm. | F19: =Korpótlék!$D$5 -> 38650 | H19: =$D$17+$E$5+F19+$G$5 -> 356353 | I19: 15
A20: 16 | F20: =Korpótlék!$D$5 -> 38650 | H20: =$D$17+$E$5+F20+$G$5 -> 356353 | I20: 16
A21: 17 | B21: 5. | C21: =Tiszthelyettes!E12 -> 6.5 | D21: =C21*Tiszthelyettes!$M$2 -> 251225 | F21: =Korpótlék!$D$5 -> 38650 | H21: =$D$21+$E$5+F21+$G$5 -> 364083 | I21: 17
A22: 18 | F22: =Korpótlék!$D$5 -> 38650 | H22: =$D$21+$E$5+F22+$G$5 -> 364083 | I22: 18
A23: 19 | C23: =Tiszthelyettes!E13 -> tőrm. | F23: =Korpótlék!$D$5 -> 38650 | H23: =$D$21+$E$5+F23+$G$5 -> 364083 | I23: 19
A24: 20 | F24: =Korpótlék!$D$6 -> 48312.5 | H24: =$D$21+$E$5+F24+$G$5 -> 373745.5 | I24: 20
A25: 21 | B25: 6. | C25: =Tiszthelyettes!E14 -> 6.7 | D25: =C25*Tiszthelyettes!$M$2 -> 258955 | F25: =Korpótlék!$D$6 -> 48312.5 | H25: =$D$25+$E$5+F25+$G$5 -> 381475.5 | I25: 21
A26: 22 | F26: =Korpótlék!$D$6 -> 48312.5 | H26: =$D$25+$E$5+F26+$G$5 -> 381475.5 | I26: 22
A27: 23 | C27: =Tiszthelyettes!E15 -> ftőrm. | F27: =Korpótlék!$D$6 -> 48312.5 | H27: =$D$25+$E$5+F27+$G$5 -> 381475.5 | I27: 23
A28: 24 | F28: =Korpótlék!$D$6 -> 48312.5 | H28: =$D$25+$E$5+F28+$G$5 -> 381475.5 | I28: 24
A29: 25 | B29: 7. | C29: =Tiszthelyettes!E16 -> 6.9 | D29: =C29*Tiszthelyettes!$M$2 -> 266685 | F29: =Korpótlék!$D$7 -> 57975 | H29: =$D$29+$E$5+F29+$G$5 -> 398868 | I29: 25
A30: 26 | F30: =Korpótlék!$D$7 -> 57975 | H30: =$D$29+$E$5+F30+$G$5 -> 398868 | I30: 26
A31: 27 | C31: =Tiszthelyettes!E17 -> ftőrm. | F31: =Korpótlék!$D$7 -> 57975 | H31: =$D$29+$E$5+F31+$G$5 -> 398868 | I31: 27
A32: 28 | F32: =Korpótlék!$D$7 -> 57975 | H32: =$D$29+$E$5+F32+$G$5 -> 398868 | I32: 28
A33: 29 | B33: 8. | C33: =Tiszthelyettes!E18 -> 7.1 | D33: =C33*Tiszthelyettes!$M$2 -> 274415 | F33: =Korpótlék!$D$7 -> 57975 | H33: =$D$33+$E$5+F33+$G$5 -> 406598 | I33: 29
A34: 30 | F34: =Korpótlék!$D$8 -> 69570 | H34: =$D$33+$E$5+F34+$G$5 -> 418193 | I34: 30
A35: 31 | C35: =Tiszthelyettes!E19 -> ftőrm. | F35: =Korpótlék!$D$8 -> 69570 | H35: =$D$33+$E$5+F35+$G$5 -> 418193 | I35: 31
A36: 32 | F36: =Korpótlék!$D$8 -> 69570 | H36: =$D$33+$E$5+F36+$G$5 -> 418193 | I36: 32
A37: 33 | B37: 9. | C37: =Tiszthelyettes!E20 -> 7.3 | D37: =C37*Tiszthelyettes!$M$2 -> 282145 | F37: =Korpótlék!$D$8 -> 69570 | H37: =$D$37+$E$5+F37+$G$5 -> 425923 | I37: 33
A38: 34 | F38: =Korpótlék!$D$8 -> 69570 | H38: =$D$37+$E$5+F38+$G$5 -> 425923 | I38: 34
A39: 35 | C39: =Tiszthelyettes!E21 -> zls. | F39: =Korpótlék!$D$9 -> 81165 | H39: =$D$37+$E$5+F39+$G$5 -> 437518 | I39: 35
A40: 36 | F40: =Korpótlék!$D$9 -> 81165 | H40: =$D$37+$E$5+F40+$G$5 -> 437518 | I40: 36
A41: 37 | B41: 10. | C41: =Tiszthelyettes!E22 -> 7.5 | D41: =C41*Tiszthelyettes!$M$2 -> 289875 | F41: =Korpótlék!$D$9 -> 81165 | H41: =$D$41+$E$5+F41+$G$5 -> 445248 | I41: 37
A42: 38 | F42: =Korpótlék!$D$9 -> 81165 | H42: =$D$41+$E$5+F42+$G$5 -> 445248 | I42: 38
A43: 39 | C43: =Tiszthelyettes!E23 -> zls. | F43: =Korpótlék!$D$9 -> 81165 | H43: =$D$41+$E$5+F43+$G$5 -> 445248 | I43: 39
A44: 40 | F44: =Korpótlék!$D$10 -> 96625 | H44: =$D$41+$E$5+F44+$G$5 -> 460708 | I44: 40

Sheet RAJPK H.
A1: rajparancsnok-helyettes
A2: Szoolgálati idő (év) | B2: fizetési fokozat | C2: besorolási kategória | D2: Beosztási illetmény | E2: Hivatásos pótlék | F2: Korpótlék | G2: Éjszakai pótlék (7 szolgálat) | H2: Havi Bruttó Bér | I2: Szoolgálati idő (év)
C4: D
B5: 1. | C5: =Tiszthelyettes!F4 -> X | E5: =Tiszthelyettes!$L$2*Tiszthelyettes!$M$2 -> 57975 | F5: 0 | G5: =7*Korpótlék!$C$13 -> 16233
F6: 0
C7: =Tiszthelyettes!F5 -> X | F7: 0
F8: 0
B9: 2. | C9: =Tiszthelyettes!F6 -> X | F9: 0
F10: 0
C11: =Tiszthelyettes!F7 -> X | F11: 0
F12: 0
B13: 3 | C13: =Tiszthelyettes!F8 -> X | F13: 0
F14: 0
C15: =Tiszthelyettes!F9 -> X | F15: 0
F16: 0
A17: 13 | B17: 4. | C17: =Tiszthelyettes!F10 -> 7.3 | D17: =C17*Tiszthelyettes!$M$2 -> 282145 | F17: =Korpótlék!$D$4 -> 28987.5 | H17: =$D$17+$E$5+F17+$G$5 -> 385340.5 | I17: 13
A18: 14 | F18: =Korpótlék!$D$4 -> 28987.5 | H18: =$D$17+$E$5+F18+$G$5 -> 385340.5 | I18: 14
A19: 15 | C19: =Tiszthelyettes!F11 -> ftőrm. | F19: =Korpótlék!$D$5 -> 38650 | H19: =$D$17+$E$5+F19+$G$5 -> 395003 | I19: 15
A20: 16 | F20: =Korpótlék!$D$5 -> 38650 | H20: =$D$17+$E$5+F20+$G$5 -> 395003 | I20: 16
A21: 17 | B21: 5. | C21: =Tiszthelyettes!F12 -> 7.5 | D21: =C21*Tiszthelyettes!$M$2 -> 289875 | F21: =Korpótlék!$D$5 -> 38650 | H21: =$D$21+$E$5+F21+$G$5 -> 402733 | I21: 17
A22: 18 | F22: =Korpótlék!$D$5 -> 38650 | H22: =$D$21+$E$5+F22+$G$5 -> 402733 | I22: 18
A23: 19 | C23: =Tiszthelyettes!F13 -> ftőrm. | F23: =Korpótlék!$D$5 -> 38650 | H23: =$D$21+$E$5+F23+$G$5 -> 402733 | I23: 19
A24: 20 | F24: =Korpótlék!$D$6 -> 48312.5 | H24: =$D$21+$E$5+F24+$G$5 -> 412395.5 | I24: 20
A25: 21 | B25: 6. | C25: =Tiszthelyettes!F14 -> 7.7 | D25: =C25*Tiszthelyettes!$M$2 -> 297605 | F25: =Korpótlék!$D$6 -> 48312.5 | H25: =$D$25+$E$5+F25+$G$5 -> 420125.5 | I25: 21
A26: 22 | F26: =Korpótlék!$D$6 -> 48312.5 | H26: =$D$25+$E$5+F26+$G$5 -> 420125.5 | I26: 22
A27: 23 | C27: =Tiszthelyettes!F15 -> ftőrm. | F27: =Korpótlék!$D$6 -> 48312.5 | H27: =$D$25+$E$5+F27+$G$5 -> 420125.5 | I27: 23
A28: 24 | F28: =Korpótlék!$D$6 -> 48312.5 | H28: =$D$25+$E$5+F28+$G$5 -> 420125.5 | I28: 24
A29: 25 | B29: 7. | C29: =Tiszthelyettes!F16 -> 7.9 | D29: =C29*Tiszthelyettes!$M$2 -> 305335 | F29: =Korpótlék!$D$7 -> 57975 | H29: =$D$29+$E$5+F29+$G$5 -> 437518 | I29: 25
A30: 26 | F30: =Korpótlék!$D$7 -> 57975 | H30: =$D$29+$E$5+F30+$G$5 -> 437518 | I30: 26
A31: 27 | C31: =Tiszthelyettes!F17 -> zls. | F31: =Korpótlék!$D$7 -> 57975 | H31: =$D$29+$E$5+F31+$G$5 -> 437518 | I31: 27
A32: 28 | F32: =Korpótlék!$D$7 -> 57975 | H32: =$D$29+$E$5+F32+$G$5 -> 437518 | I32: 28
A33: 29 | B33: 8. | C33: =Tiszthelyettes!F18 -> 8.1 | D33: =C33*Tiszthelyettes!$M$2 -> 313065 | F33: =Korpótlék!$D$7 -> 57975 | H33: =$D$33+$E$5+F33+$G$5 -> 445248 | I33: 29
A34: 30 | F34: =Korpótlék!$D$8 -> 69570 | H34: =$D$33+$E$5+F34+$G$5 -> 456843 | I34: 30
A35: 31 | C35: =Tiszthelyettes!F19 -> zls. | F35: =Korpótlék!$D$8 -> 69570 | H35: =$D$33+$E$5+F35+$G$5 -> 456843 | I35: 31
A36: 32 | F36: =Korpótlék!$D$8 -> 69570 | H36: =$D$33+$E$5+F36+$G$5 -> 456843 | I36: 32
A37: 33 | B37: 9. | C37: =Tiszthelyettes!F20 -> 8.3 | D37: =C37*Tiszthelyettes!$M$2 -> 320795 | F37: =Korpótlék!$D$8 -> 69570 | H37: =$D$37+$E$5+F37+$G$5 -> 464573 | I37: 33
A38: 34 | F38: =Korpótlék!$D$8 -> 69570 | H38: =$D$37+$E$5+F38+$G$5 -> 464573 | I38: 34
A39: 35 | C39: =Tiszthelyettes!F21 -> tzls. | F39: =Korpótlék!$D$9 -> 81165 | H39: =$D$37+$E$5+F39+$G$5 -> 476168 | I39: 35
A40: 36 | F40: =Korpótlék!$D$9 -> 81165 | H40: =$D$37+$E$5+F40+$G$5 -> 476168 | I40: 36
A41: 37 | B41: 10. | C41: =Tiszthelyettes!F22 -> 8.5 | D41: =C41*Tiszthelyettes!$M$2 -> 328525 | F41: =Korpótlék!$D$9 -> 81165 | H41: =$D$41+$E$5+F41+$G$5 -> 483898 | I41: 37
A42: 38 | F42: =Korpótlék!$D$9 -> 81165 | H42: =$D$41+$E$5+F42+$G$5 -> 483898 | I42: 38
A43: 39 | C43: =Tiszthelyettes!F23 -> tzls. | F43: =Korpótlék!$D$9 -> 81165 | H43: =$D$41+$E$5+F43+$G$5 -> 483898 | I43: 39
A44: 40 | F44: =Korpótlék!$D$10 -> 96625 | H44: =$D$41+$E$5+F44+$G$5 -> 499358 | I44: 40

Sheet RAJPK
A1: rajparancsnok
A2: Szoolgálati idő (év) | B2: fizetési fokozat | C2: besorolási kategória | D2: Beosztási illetmény | E2: Hivatásos pótlék | F2: Korpótlék | G2: Éjszakai pótlék (7 szolgálat) | H2: Nyelvpótlék (60%) | I2: Havi Bruttó Bér | J2: Szoolgálati idő (év)
C4: B
B5: 1. | C5: =Tiszt!D4 -> X | E5: =Tiszt!$L$4*Tiszthelyettes!$M$2 -> 57975 | F5: 0 | G5: =7*Korpótlék!$C$13 -> 16233 | H5: =Korpótlék!$C$15 -> 23190
F6: 0
C7: =Tiszt!D5 -> X | F7: 0
F8: 0
A9: 5 | B9: 2. | C9: =Tiszt!D6 -> 9 | D9: =C9*Tiszthelyettes!$M$2 -> 347850 | F9: 0 | I9: =$D$9+$E$5+F9+$G$5 -> 422058 | J9: 5
A10: 6 | F10: 0 | I10: =$D$9+$E$5+F10+$G$5 -> 422058 | J10: 6
A11: 7 | C11: =Tiszt!D7 -> hdgy. | F11: 0 | I11: =$D$9+$E$5+F11+$G$5 -> 422058 | J11: 7
A12: 8 | F12: 0 | I12: =$D$9+$E$5+F12+$G$5 -> 422058 | J12: 8
A13: 9 | B13: 3 | C13: =Tiszt!D8 -> 9.3 | D13: =C13*Tiszthelyettes!$M$2 -> 359445 | F13: 0 | I13: =$D$13+$E$5+F13+$G$5 -> 433653 | J13: 9
A14: 10 | F14: =Korpótlék!$D$4 -> 28987.5 | I14: =$D$13+$E$5+F14+$G$5 -> 462640.5 | J14: 10
A15: 11 | C15: =Tiszt!D9 -> hdgy. | F15: =Korpótlék!$D$4 -> 28987.5 | I15: =$D$13+$E$5+F15+$G$5 -> 462640.5 | J15: 11
A16: 12 | F16: =Korpótlék!$D$4 -> 28987.5 | I16: =$D$13+$E$5+F16+$G$5 -> 462640.5 | J16: 12
A17: 13 | B17: 4. | C17: =Tiszt!D10 -> 9.6 | D17: =C17*Tiszthelyettes!$M$2 -> 371040 | F17: =Korpótlék!$D$4 -> 28987.5 | I17: =$D$17+$E$5+F17+$G$5 -> 474235.5 | J17: 13
A18: 14 | F18: =Korpótlék!$D$4 -> 28987.5 | I18: =$D$17+$E$5+F18+$G$5 -> 474235.5 | J18: 14
A19: 15 | C19: =Tiszt!D11 -> hdgy. | F19: =Korpótlék!$D$5 -> 38650 | I19: =$D$17+$E$5+F19+$G$5 -> 483898 | J19: 15
A20: 16 | F20: =Korpótlék!$D$5 -> 38650 | I20: =$D$17+$E$5+F20+$G$5 -> 483898 | J20: 16
A21: 17 | B21: 5. | C21: =Tiszt!D12 -> 9.9 | D21: =C21*Tiszthelyettes!$M$2 -> 382635 | F21: =Korpótlék!$D$5 -> 38650 | I21: =$D$21+$E$5+F21+$G$5 -> 495493 | J21: 17
A22: 18 | F22: =Korpótlék!$D$5 -> 38650 | I22: =$D$21+$E$5+F22+$G$5 -> 495493 | J22: 18
A23: 19 | C23: =Tiszt!D13 -> fhdgy. | F23: =Korpótlék!$D$5 -> 38650 | I23: =$D$21+$E$5+F23+$G$5 -> 495493 | J23: 19
A24: 20 | F24: =Korpótlék!$D$6 -> 48312.5 | I24: =$D$21+$E$5+F24+$G$5 -> 505155.5 | J24: 20
A25: 21 | B25: 6. | C25: =Tiszt!D14 -> 10.2 | D25: =C25*Tiszthelyettes!$M$2 -> 394230 | F25: =Korpótlék!$D$6 -> 48312.5 | I25: =$D$25+$E$5+F25+$G$5 -> 516750.5 | J25: 21
A26: 22 | F26: =Korpótlék!$D$6 -> 48312.5 | I26: =$D$25+$E$5+F26+$G$5 -> 516750.5 | J26: 22
A27: 23 | C27: =Tiszt!D15 -> fhdgy. | F27: =Korpótlék!$D$6 -> 48312.5 | I27: =$D$25+$E$5+F27+$G$5 -> 516750.5 | J27: 23
A28: 24 | F28: =Korpótlék!$D$6 -> 48312.5 | I28: =$D$25+$E$5+F28+$G$5 -> 516750.5 | J28: 24
A29: 25 | B29: 7. | C29: =Tiszt!D16 -> 10.5 | D29: =C29*Tiszthelyettes!$M$2 -> 405825 | F29: =Korpótlék!$D$7 -> 57975 | I29: =$D$29+$E$5+F29+$G$5 -> 538008 | J29: 25
A30: 26 | F30: =Korpótlék!$D$7 -> 57975 | I30: =$D$29+$E$5+F30+$G$5 -> 538008 | J30: 26
A31: 27 | C31: =Tiszt!D17 -> fhdgy. | F31: =Korpótlék!$D$7 -> 57975 | I31: =$D$29+$E$5+F31+$G$5 -> 538008 | J31: 27
A32: 28 | F32: =Korpótlék!$D$7 -> 57975 | I32: =$D$29+$E$5+F32+$G$5 -> 538008 | J32: 28
A33: 29 | B33: 8. | C33: =Tiszt!D18 -> 10.8 | D33: =C33*Tiszthelyettes!$M$2 -> 417420 | F33: =Korpótlék!$D$7 -> 57975 | I33: =$D$33+$E$5+F33+$G$5 -> 549603 | J33: 29
A34: 30 | F34: =Korpótlék!$D$8 -> 69570 | I34: =$D$33+$E$5+F34+$G$5 -> 561198 | J34: 30
A35: 31 | C35: =Tiszt!D19 -> szds. | F35: =Korpótlék!$D$8 -> 69570 | I35: =$D$33+$E$5+F35+$G$5 -> 561198 | J35: 31
A36: 32 | F36: =Korpótlék!$D$8 -> 69570 | I36: =$D$33+$E$5+F36+$G$5 -> 561198 | J36: 32
A37: 33 | B37: 9. | C37: =Tiszt!D20 -> 11.1 | D37: =C37*Tiszthelyettes!$M$2 -> 429015 | F37: =Korpótlék!$D$8 -> 69570 | I37: =$D$37+$E$5+F37+$G$5 -> 572793 | J37: 33
A38: 34 | F38: =Korpótlék!$D$8 -> 69570 | I38: =$D$37+$E$5+F38+$G$5 -> 572793 | J38: 34
A39: 35 | C39: =Tiszt!D21 -> szds. | F39: =Korpótlék!$D$9 -> 81165 | I39: =$D$37+$E$5+F39+$G$5 -> 584388 | J39: 35
A40: 36 | F40: =Korpótlék!$D$9 -> 81165 | I40: =$D$37+$E$5+F40+$G$5 -> 584388 | J40: 36
A41: 37 | B41: 10. | C41: =Tiszt!D22 -> 11.4 | D41: =C41*Tiszthelyettes!$M$2 -> 440610 | F41: =Korpótlék!$D$9 -> 81165 | I41: =$D$41+$E$5+F41+$G$5 -> 595983 | J41: 37
A42: 38 | F42: =Korpótlék!$D$9 -> 81165 | I42: =$D$41+$E$5+F42+$G$5 -> 595983 | J42: 38
A43: 39 | C43: =Tiszt!D23 -> szds. | F43: =Korpótlék!$D$9 -> 81165 | I43: =$D$41+$E$5+F43+$G$5 -> 595983 | J43: 39
A44: 40 | F44: =Korpótlék!$D$10 -> 96625 | I44: =$D$41+$E$5+F44+$G$5 -> 611443 | J44: 40

Sheet SZOLG PK
A1: szolgálatparancsnok
A2: Szoolgálati idő (év) | B2: fizetési fokozat | C2: besorolási kategória | D2: Beosztási illetmény | E2: Hivatásos pótlék | F2: Korpótlék | G2: Éjszakai pótlék (7 szolgálat) | H2: Nyelvpótlék (60%) | I2: Havi Bruttó Bér | J2: Szoolgálati idő (év)
C4: C
B5: 1. | C5: =Tiszt!E4 -> X | E5: =Tiszt!$L$4*Tiszthelyettes!$M$2 -> 57975 | F5: 0 | G5: =7*Korpótlék!$C$13 -> 16233 | H5: =Korpótlék!$C$15 -> 23190
F6: 0
C7: =Tiszt!E5 -> X | F7: 0
F8: 0
A9: 5 | B9: 2. | C9: =Tiszt!E6 -> X | F9: 0
A10: 6 | F10: 0
A11: 7 | C11: =Tiszt!E7 -> X | F11: 0
A12: 8 | F12: 0
A13: 9 | B13: 3 | C13: =Tiszt!E8 -> 10.1 | D13: =C13*Tiszthelyettes!$M$2 -> 390365 | F13: 0 | I13: =$D$13+$E$5+F13+$G$5 -> 464573 | J13: 9
A14: 10 | F14: =Korpótlék!$D$4 -> 28987.5 | I14: =$D$13+$E$5+F14+$G$5 -> 493560.5 | J14: 10
A15: 11 | C15: =Tiszt!E9 -> fhdgy. | F15: =Korpótlék!$D$4 -> 28987.5 | I15: =$D$13+$E$5+F15+$G$5 -> 493560.5 | J15: 11
A16: 12 | F16: =Korpótlék!$D$4 -> 28987.5 | I16: =$D$13+$E$5+F16+$G$5 -> 493560.5 | J16: 12
A17: 13 | B17: 4. | C17: =Tiszt!E10 -> 10.4 | D17: =C17*Tiszthelyettes!$M$2 -> 401960 | F17: =Korpótlék!$D$4 -> 28987.5 | I17: =$D$17+$E$5+F17+$G$5 -> 505155.5 | J17: 13
A18: 14 | F18: =Korpótlék!$D$4 -> 28987.5 | I18: =$D$17+$E$5+F18+$G$5 -> 505155.5 | J18: 14
A19: 15 | C19: =Tiszt!E11 -> fhdgy. | F19: =Korpótlék!$D$5 -> 38650 | I19: =$D$17+$E$5+F19+$G$5 -> 514818 | J19: 15
A20: 16 | F20: =Korpótlék!$D$5 -> 38650 | I20: =$D$17+$E$5+F20+$G$5 -> 514818 | J20: 16
A21: 17 | B21: 5. | C21: =Tiszt!E12 -> 10.7 | D21: =C21*Tiszthelyettes!$M$2 -> 413555 | F21: =Korpótlék!$D$5 -> 38650 | I21: =$D$21+$E$5+F21+$G$5 -> 526413 | J21: 17
A22: 18 | F22: =Korpótlék!$D$5 -> 38650 | I22: =$D$21+$E$5+F22+$G$5 -> 526413 | J22: 18
A23: 19 | C23: =Tiszt!E13 -> fhdgy. | F23: =Korpótlék!$D$5 -> 38650 | I23: =$D$21+$E$5+F23+$G$5 -> 526413 | J23: 19
A24: 20 | F24: =Korpótlék!$D$6 -> 48312.5 | I24: =$D$21+$E$5+F24+$G$5 -> 536075.5 | J24: 20
A25: 21 | B25: 6. | C25: =Tiszt!E14 -> 11 | D25: =C25*Tiszthelyettes!$M$2 -> 425150 | F25: =Korpótlék!$D$6 -> 48312.5 | I25: =$D$25+$E$5+F25+$G$5 -> 547670.5 | J25: 21
A26: 22 | F26: =Korpótlék!$D$6 -> 48312.5 | I26: =$D$25+$E$5+F26+$G$5 -> 547670.5 | J26: 22
A27: 23 | C27: =Tiszt!E15 -> szds. | F27: =Korpótlék!$D$6 -> 48312.5 | I27: =$D$25+$E$5+F27+$G$5 -> 547670.5 | J27: 23
A28: 24 | F28: =Korpótlék!$D$6 -> 48312.5 | I28: =$D$25+$E$5+F28+$G$5 -> 547670.5 | J28: 24
A29: 25 | B29: 7. | C29: =Tiszt!E16 -> 11.3 | D29: =C29*Tiszthelyettes!$M$2 -> 436745 | F29: =Korpótlék!$D$7 -> 57975 | I29: =$D$29+$E$5+F29+$G$5 -> 568928 | J29: 25
A30: 26 | F30: =Korpótlék!$D$7 -> 57975 | I30: =$D$29+$E$5+F30+$G$5 -> 568928 | J30: 26
A31: 27 | C31: =Tiszt!E17 -> szds. | F31: =Korpótlék!$D$7 -> 57975 | I31: =$D$29+$E$5+F31+$G$5 -> 568928 | J31: 27
A32: 28 | F32: =Korpótlék!$D$7 -> 57975 | I32: =$D$29+$E$5+F32+$G$5 -> 568928 | J32: 28
A33: 29 | B33: 8. | C33: =Tiszt!E18 -> 11.6 | D33: =C33*Tiszthelyettes!$M$2 -> 448340 | F33: =Korpótlék!$D$7 -> 57975 | I33: =$D$33+$E$5+F33+$G$5 -> 580523 | J33: 29
A34: 30 | F34: =Korpótlék!$D$8 -> 69570 | I34: =$D$33+$E$5+F34+$G$5 -> 592118 | J34: 30
A35: 31 | C35: =Tiszt!E19 -> szds. | F35: =Korpótlék!$D$8 -> 69570 | I35: =$D$33+$E$5+F35+$G$5 -> 592118 | J35: 31
A36: 32 | F36: =Korpótlék!$D$8 -> 69570 | I36: =$D$33+$E$5+F36+$G$5 -> 592118 | J36: 32
A37: 33 | B37: 9. | C37: =Tiszt!E20 -> 11.9 | D37: =C37*Tiszthelyettes!$M$2 -> 459935 | F37: =Korpótlék!$D$8 -> 69570 | I37: =$D$37+$E$5+F37+$G$5 -> 603713 | J37: 33
A38: 34 | F38: =Korpótlék!$D$8 -> 69570 | I38: =$D$37+$E$5+F38+$G$5 -> 603713 | J38: 34
A39: 35 | C39: =Tiszt!E21 -> őrgy. | F39: =Korpótlék!$D$9 -> 81165 | I39: =$D$37+$E$5+F39+$G$5 -> 615308 | J39: 35
A40: 36 | F40: =Korpótlék!$D$9 -> 81165 | I40: =$D$37+$E$5+F40+$G$5 -> 615308 | J40: 36
A41: 37 | B41: 10. | C41: =Tiszt!E22 -> 12.2 | D41: =C41*Tiszthelyettes!$M$2 -> 471530 | F41: =Korpótlék!$D$9 -> 81165 | I41: =$D$41+$E$5+F41+$G$5 -> 626903 | J41: 37
A42: 38 | F42: =Korpótlék!$D$9 -> 81165 | I42: =$D$41+$E$5+F42+$G$5 -> 626903 | J42: 38
A43: 39 | C43: =Tiszt!E23 -> őrgy. | F43: =Korpótlék!$D$9 -> 81165 | I43: =$D$41+$E$5+F43+$G$5 -> 626903 | J43: 39
A44: 40 | F44: =Korpótlék!$D$10 -> 96625 | I44: =$D$41+$E$5+F44+$G$5 -> 642363 | J44: 40

Sheet ŐRS PK
A1: őrsparancsnok
A2: Szoolgálati idő (év) | B2: fizetési fokozat | C2: besorolási kategória | D2: Beosztási illetmény | E2: Hivatásos pótlék | F2: Korpótlék | G2: Éjszakai pótlék (7 szolgálat) | H2: Nyelvpótlék (60%) | I2: Havi Bruttó Bér | J2: Szoolgálati idő (év)
C4: D
B5: 1. | C5: =Tiszt!F4 -> X | E5: =Tiszt!$L$2*Tiszthelyettes!$M$2 -> 38650 | F5: 0 | G5: =7*Korpótlék!$C$13 -> 16233 | H5: =Korpótlék!$C$15 -> 23190
F6: 0
C7: =Tiszt!F5 -> X | F7: 0
F8: 0
B9: 2. | C9: =Tiszt!F6 -> X | F9: 0
F10: 0
C11: =Tiszt!F7 -> X | F11: 0
F12: 0
B13: 3 | C13: =Tiszt!F8 -> X | F13: 0
F14: 0
C15: =Tiszt!F9 -> X | F15: 0
F16: 0
A17: 13 | B17: 4. | C17: =Tiszt!F10 -> 10.8 | D17: =C17*Tiszthelyettes!$M$2 -> 417420 | F17: =Korpótlék!$D$4 -> 28987.5 | I17: =$D$17+$E$5+F17+$G$5 -> 501290.5 | J17: 13
A18: 14 | F18: =Korpótlék!$D$4 -> 28987.5 | I18: =$D$17+$E$5+F18+$G$5 -> 501290.5 | J18: 14
A19: 15 | C19: =Tiszt!F11 -> szds. | F19: =Korpótlék!$D$5 -> 38650 | I19: =$D$17+$E$5+F19+$G$5 -> 510953 | J19: 15
A20: 16 | F20: =Korpótlék!$D$5 -> 38650 | I20: =$D$17+$E$5+F20+$G$5 -> 510953 | J20: 16
A21: 17 | B21: 5. | C21: =Tiszt!F12 -> 11.1 | D21: =C21*Tiszthelyettes!$M$2 -> 429015 | F21: =Korpótlék!$D$5 -> 38650 | I21: =$D$21+$E$5+F21+$G$5 -> 522548 | J21: 17
A22: 18 | F22: =Korpótlék!$D$5 -> 38650 | I22: =$D$21+$E$5+F22+$G$5 -> 522548 | J22: 18
A23: 19 | C23: =Tiszt!F13 -> szds. | F23: =Korpótlék!$D$5 -> 38650 | I23: =$D$21+$E$5+F23+$G$5 -> 522548 | J23: 19
A24: 20 | F24: =Korpótlék!$D$6 -> 48312.5 | I24: =$D$21+$E$5+F24+$G$5 -> 532210.5 | J24: 20
A25: 21 | B25: 6. | C25: =Tiszt!F14 -> 11.4 | D25: =C25*Tiszthelyettes!$M$2 -> 440610 | F25: =Korpótlék!$D$6 -> 48312.5 | I25: =$D$25+$E$5+F25+$G$5 -> 543805.5 | J25: 21
A26: 22 | F26: =Korpótlék!$D$6 -> 48312.5 | I26: =$D$25+$E$5+F26+$G$5 -> 543805.5 | J26: 22
A27: 23 | C27: =Tiszt!F15 -> szds. | F27: =Korpótlék!$D$6 -> 48312.5 | I27: =$D$25+$E$5+F27+$G$5 -> 543805.5 | J27: 23
A28: 24 | F28: =Korpótlék!$D$6 -> 48312.5 | I28: =$D$25+$E$5+F28+$G$5 -> 543805.5 | J28: 24
A29: 25 | B29: 7. | C29: =Tiszt!F16 -> 11.7 | D29: =C29*Tiszthelyettes!$M$2 -> 452205 | F29: =Korpótlék!$D$7 -> 57975 | I29: =$D$29+$E$5+F29+$G$5 -> 565063 | J29: 25
A30: 26 | F30: =Korpótlék!$D$7 -> 57975 | I30: =$D$29+$E$5+F30+$G$5 -> 565063 | J30: 26
A31: 27 | C31: =Tiszt!F17 -> őrgy. | F31: =Korpótlék!$D$7 -> 57975 | I31: =$D$29+$E$5+F31+$G$5 -> 565063 | J31: 27
A32: 28 | F32: =Korpótlék!$D$7 -> 57975 | I32: =$D$29+$E$5+F32+$G$5 -> 565063 | J32: 28
A33: 29 | B33: 8. | C33: =Tiszt!F18 -> 12 | D33: =C33*Tiszthelyettes!$M$2 -> 463800 | F33: =Korpótlék!$D$7 -> 57975 | I33: =$D$33+$E$5+F33+$G$5 -> 576658 | J33: 29
A34: 30 | F34: =Korpótlék!$D$8 -> 69570 | I34: =$D$33+$E$5+F34+$G$5 -> 588253 | J34: 30
A35: 31 | C35: =Tiszt!F19 -> őrgy. | F35: =Korpótlék!$D$8 -> 69570 | I35: =$D$33+$E$5+F35+$G$5 -> 588253 | J35: 31
A36: 32 | F36: =Korpótlék!$D$8 -> 69570 | I36: =$D$33+$E$5+F36+$G$5 -> 588253 | J36: 32
A37: 33 | B37: 9. | C37: =Tiszt!F20 -> 12.3 | D37: =C37*Tiszthelyettes!$M$2 -> 475395 | F37: =Korpótlék!$D$8 -> 69570 | I37: =$D$37+$E$5+F37+$G$5 -> 599848 | J37: 33
A38: 34 | F38: =Korpótlék!$D$8 -> 69570 | I38: =$D$37+$E$5+F38+$G$5 -> 599848 | J38: 34
A39: 35 | C39: =Tiszt!F21 -> alez. | F39: =Korpótlék!$D$9 -> 81165 | I39: =$D$37+$E$5+F39+$G$5 -> 611443 | J39: 35
A40: 36 | F40: =Korpótlék!$D$9 -> 81165 | I40: =$D$37+$E$5+F40+$G$5 -> 611443 | J40: 36
A41: 37 | B41: 10. | C41: =Tiszt!F22 -> 12.6 | D41: =C41*Tiszthelyettes!$M$2 -> 486990 | F41: =Korpótlék!$D$9 -> 81165 | I41: =$D$41+$E$5+F41+$G$5 -> 623038 | J41: 37
A42: 38 | F42: =Korpótlék!$D$9 -> 81165 | I42: =$D$41+$E$5+F42+$G$5 -> 623038 | J42: 38
A43: 39 | C43: =Tiszt!F23 -> alez. | F43: =Korpótlék!$D$9 -> 81165 | I43: =$D$41+$E$5+F43+$G$5 -> 623038 | J43: 39
A44: 40 | F44: =Korpótlék!$D$10 -> 96625 | I44: =$D$41+$E$5+F44+$G$5 -> 638498 | J44: 40

Sheet Tiszthelyettes
A1: 1. | B1: fizetési fokozat | C1: besorolási kategóriák | J1: beosztás | K1: besorolási kategória | L1: hivatásos pótlék mértéke (%) | M1: Rendészeti alap
C2: A | D2: B | E2: C | F2: D | G2: E | J2: rajparancsnok-helyettes | K2: D | L2: 1.5 | M2: 38650
J3: szerparancsnok | K3: C | L3: 1.5
A4: 0 - 4 év | B4: 1. | C4: 4.7 | D4: X | E4: X | F4: X | G4: X | J4: különleges szerkezelő | K4: B | L4: 1.35
C5: őrm. | D5: X | E5: X | F5: X | G5: X | J5: gépjárművezető | K5: A | L5: 1.35
A6: 5 - 8 év | B6: 2. | C6: 4.9 | D6: 5.4 | E6: X | F6: X | G6: X | J6: beosztott tűzoltó | K6: A | L6: 1.25
C7: őrm. | D7: őrm. | E7: X | F7: X | G7: X
A8: 9 - 12 év | B8: 3. | C8: 5.1 | D8: 5.6 | E8: 6.1 | F8: X | G8: X
C9: őrm. | D9: őrm. | E9: tőrm. | F9: X | G9: X
A10: 13 - 16 év | B10: 4. | C10: 5.3 | D10: 5.8 | E10: 6.3 | F10: 7.3 | G10: X
C11: őrm. | D11: őrm. | E11: tőrm. | F11: ftőrm. | G11: X
A12: 17 - 20 év | B12: 5. | C12: 5.5 | D12: 6 | E12: 6.5 | F12: 7.5 | G12: 7.9
C13: őrm. | D13: tőrm. | E13: tőrm. | F13: ftőrm. | G13: tzls.
A14: 21-24 év | B14: 6. | C14: 5.7 | D14: 6.2 | E14: 6.7 | F14: 7.7 | G14: 8.1
C15: tőrm. | D15: tőrm. | E15: ftőrm. | F15: ftőrm. | G15: tzls.
A16: 25-28 év | B16: 7. | C16: 5.9 | D16: 6.4 | E16: 6.9 | F16: 7.9 | G16: 8.3
C17: tőrm. | D17: tőrm. | E17: ftőrm. | F17: zls. | G17: tzls.
A18: 29-32 év | B18: 8. | C18: 6.1 | D18: 6.6 | E18: 7.1 | F18: 8.1 | G18: 8.5
C19: tőrm. | D19: ftőrm. | E19: ftőrm. | F19: zls. | G19: ftzls.
A20: 33-36 év | B20: 9. | C20: 6.3 | D20: 6.8 | E20: 7.3 | F20: 8.3 | G20: 8.7
C21: tőrm. | D21: ftőrm. | E21: zls. | F21: tzls. | G21: ftzls.
A22: 37 évtől | B22: 10. | C22: 6.5 | D22: 7 | E22: 7.5 | F22: 8.5 | G22: 8.9
C23: tőrm. | D23: ftőrm. | E23: zls. | F23: tzls. | G23: ftzls.

Sheet Tiszt
A1: 1. | B1: fizetési fokozat | C1: besorolási kategóriák | J1: beosztás | K1: besorolási kategória | L1: hivatásos pótlék mértéke (%)
C2: A | D2: B | E2: C | F2: D | G2: E | J2: őrsparancsnok | K2: D | L2: 1
J3: szolgálatparancsnok | K3: C | L3: 1.5
A4: 0 - 4 év | B4: 1. | C4: 7.4 | D4: X | E4: X | F4: X | G4: X | J4: rajparancsnok | K4: B | L4: 1.5
C5: hdgy. | D5: X | E5: X | F5: X | G5: X
A6: 5 - 8 év | B6: 2. | C6: 7.7 | D6: 9 | E6: X | F6: X | G6: X
C7: hdgy. | D7: hdgy. | E7: X | F7: X | G7: X
A8: 9 - 12 év | B8: 3. | C8: 8 | D8: 9.3 | E8: 10.1 | F8: X | G8: X
C9: hdgy. | D9: hdgy. | E9: fhdgy. | F9: X | G9: X
A10: 13 - 16 év | B10: 4. | C10: 8.3 | D10: 9.6 | E10: 10.4 | F10: 10.8 | G10: X
C11: hdgy. | D11: hdgy. | E11: fhdgy. | F11: szds. | G11: X
A12: 17 - 20 év | B12: 5. | C12: 8.6 | D12: 9.9 | E12: 10.7 | F12: 11.1 | G12: 11.5
C13: hdgy. | D13: fhdgy. | E13: fhdgy. | F13: szds. | G13: őrgy.
A14: 21-24 év | B14: 6. | C14: 8.9 | D14: 10.2 | E14: 11 | F14: 11.4 | G14: 11.8
C15: fhdgy. | D15: fhdgy. | E15: szds. | F15: szds. | G15: őrgy.
A16: 25-28 év | B16: 7. | C16: 9.2 | D16: 10.5 | E16: 11.3 | F16: 11.7 | G16: 12.1
C17: fhdgy. | D17: fhdgy. | E17: szds. | F17: őrgy. | G17: őrgy.
A18: 29-32 év | B18: 8. | C18: 9.5 | D18: 10.8 | E18: 11.6 | F18: 12 | G18: 12.4
C19: fhdgy. | D19: szds. | E19: szds. | F19: őrgy. | G19: alez.
A20: 33-36 év | B20: 9. | C20: 9.8 | D20: 11.1 | E20: 11.9 | F20: 12.3 | G20: 12.7
C21: fhdgy. | D21: szds. | E21: őrgy. | F21: alez. | G21: alez.
A22: 37 évtől | B22: 10. | C22: 10.1 | D22: 11.4 | E22: 12.2 | F22: 12.6 | G22: 13
C23: fhdgy. | D23: szds. | E23: őrgy. | F23: alez. | G23: alez.

Sheet Korpótlék
B1: A | C1: B
B2: szolgálati viszonyban töltött idő | C2: szolgálati időpótlék mértéke | D2: szolgálati időpótlék (Ft)
A4: 1. | B4: 10-14 év | C4: 0.75 | D4: =C4*Tiszthelyettes!$M$2 -> 28987.5
A5: 2. | B5: 15-19 év | C5: 1 | D5: =C5*Tiszthelyettes!$M$2 -> 38650
A6: 3. | B6: 20-24 év | C6: 1.25 | D6: =C6*Tiszthelyettes!$M$2 -> 48312.5
A7: 4. | B7: 25-29 év | C7: 1.5 | D7: =C7*Tiszthelyettes!$M$2 -> 57975
A8: 5. | B8: 30-34 év | C8: 1.8 | D8: =C8*Tiszthelyettes!$M$2 -> 69570
A9: 6. | B9: 35-39 év | C9: 2.1 | D9: =C9*Tiszthelyettes!$M$2 -> 81165
A10: 7. | B10: 40-44 év | C10: 2.5 | D10: =C10*Tiszthelyettes!$M$2 -> 96625
A11: 8. | B11: 45 év vagy afelett | C11: 3.2 | D11: =C11*Tiszthelyettes!$M$2 -> 123680
A13: Éjszakai pótlék/nap: | C13: =(0.005*Tiszthelyettes!$M$2)*12 -> 2319
A15: Nyelvpótlék (ANGOL) | C15: =0.6*Tiszthelyettes!$M$2 -> 23190
